BEGIN:VCALENDAR
PRODID:-//AT Content Types//AT Event//EN
VERSION:1.0
BEGIN:VEVENT
DTSTART:20201017T160000Z
DTEND:20201017T170000Z
DCREATED:20201005T153505Z
UID:ATEvent-a27d8153bfaa46568edd55c8ae72122f
SEQUENCE:0
LAST-MODIFIED:20201005T154011Z
SUMMARY:Remise de la croix et de la lumière
LOCATION:Basilique de Gray
PRIORITY:3
TRANSP:0
END:VEVENT
END:VCALENDAR
