BEGIN:VCALENDAR
PRODID:-//AT Content Types//AT Event//EN
VERSION:1.0
BEGIN:VEVENT
DTSTART:20220304T170000Z
DTEND:20220304T183000Z
DCREATED:20220227T111101Z
UID:ATEvent-ba964c3c3a21431b9399e6fe8c867adf
SEQUENCE:0
LAST-MODIFIED:20220227T111114Z
SUMMARY:Préparation de la Veillée Pascale
LOCATION:Presbytère d'Arc-lès-Gray
PRIORITY:3
TRANSP:0
END:VEVENT
END:VCALENDAR
