BEGIN:VCALENDAR
PRODID:-//AT Content Types//AT Event//EN
VERSION:1.0
BEGIN:VEVENT
DTSTART:20230701T183000Z
DTEND:20230701T195000Z
DCREATED:20230530T195103Z
UID:ATEvent-e3fa78be5c4c48efb2cd50d5c423c8b1
SEQUENCE:0
LAST-MODIFIED:20230530T195114Z
SUMMARY:Nuit des églises à Champlitte-la-Ville
LOCATION:Champlitte-la-Ville
PRIORITY:3
TRANSP:0
END:VEVENT
END:VCALENDAR
