BEGIN:VCALENDAR
PRODID:-//AT Content Types//AT Event//EN
VERSION:1.0
BEGIN:VEVENT
DTSTART:20220123T093000Z
DTEND:20220123T103000Z
DCREATED:20220113T134028Z
UID:ATEvent-99a18d06745a4759861dd5d8d8a02216
SEQUENCE:0
LAST-MODIFIED:20220113T134149Z
SUMMARY:Messe pour l'unité des chrétiens \, 10h30 à Autrey-lès-Gray
LOCATION:Autrey-lès-Gray
PRIORITY:3
TRANSP:0
END:VEVENT
END:VCALENDAR
