BEGIN:VCALENDAR
PRODID:-//AT Content Types//AT Event//EN
VERSION:2.0
METHOD:PUBLISH
BEGIN:VEVENT
DTSTAMP:20260421T102636Z
CREATED:20201018T123239Z
UID:ATEvent-0844e278f67a4bea827607fc2bda51eb
LAST-MODIFIED:20201031T102317Z
SUMMARY:Messe des défunts  MAINTENUE
DTSTART:20201102T093000Z
DTEND:20201102T103000Z
LOCATION:Eglise de Champlitte
CLASS:PUBLIC
END:VEVENT
END:VCALENDAR
