BEGIN:VCALENDAR
PRODID:-//AT Content Types//AT Event//EN
VERSION:1.0
BEGIN:VEVENT
DTSTART:20230425T160000Z
DTEND:20230425T170000Z
DCREATED:20230423T124153Z
UID:ATEvent-2482e087667e4c87b67d62d5d381184e
SEQUENCE:0
LAST-MODIFIED:20230423T124202Z
SUMMARY:Messe à 18h à Auvet et la Chapelotte
LOCATION:Auvet et la Chapelotte
PRIORITY:3
TRANSP:0
END:VEVENT
END:VCALENDAR
