BEGIN:VCALENDAR
PRODID:-//AT Content Types//AT Event//EN
VERSION:2.0
METHOD:PUBLISH
BEGIN:VEVENT
DTSTAMP:20260421T171951Z
CREATED:20200515T183412Z
UID:ATEvent-988dc3e9af4945caa328c5d0e24833ae
LAST-MODIFIED:20200524T193725Z
SUMMARY:Laudato Si fête ses 5 ans !
DTSTART:20200515T220000Z
DTEND:20200524T215500Z
CLASS:PUBLIC
END:VEVENT
END:VCALENDAR
