BEGIN:VCALENDAR
PRODID:-//AT Content Types//AT Event//EN
VERSION:1.0
BEGIN:VEVENT
DTSTART:20240210T183000Z
DTEND:20240210T203000Z
DCREATED:20240129T101532Z
UID:ATEvent-7c579404888e481e933cda69d378125e
SEQUENCE:0
LAST-MODIFIED:20240129T101542Z
SUMMARY:La Saint-Valentin autrement
LOCATION:Salle polyvalente de Chargey-lès-Gray
PRIORITY:3
TRANSP:0
END:VEVENT
END:VCALENDAR
