BEGIN:VCALENDAR
PRODID:-//AT Content Types//AT Event//EN
VERSION:1.0
BEGIN:VEVENT
DTSTART:20220714T153000Z
DTEND:20220714T161500Z
DCREATED:20220703T132914Z
UID:ATEvent-fbe94c23c2634234b25edd7772e5b2fa
SEQUENCE:0
LAST-MODIFIED:20220703T132926Z
SUMMARY:Excursion à Gray des Vierges consacrées  avec Vêpres à la basilique à 17h30
LOCATION:Gray
PRIORITY:3
TRANSP:0
END:VEVENT
END:VCALENDAR
