BEGIN:VCALENDAR
PRODID:-//AT Content Types//AT Event//EN
VERSION:1.0
BEGIN:VEVENT
DTSTART:20210124T093000Z
DTEND:20210124T103000Z
DCREATED:20210110T141333Z
UID:ATEvent-81cafeb9206d427bb487c93f0a8e48cd
SEQUENCE:0
LAST-MODIFIED:20210123T140834Z
SUMMARY:Première étape pour les CM au cours de la messe
LOCATION:Rigny
PRIORITY:3
TRANSP:0
END:VEVENT
END:VCALENDAR
