BEGIN:VCALENDAR
PRODID:-//AT Content Types//AT Event//EN
VERSION:1.0
BEGIN:VEVENT
DTSTART:20210327T123000Z
DTEND:20210327T150000Z
DCREATED:20210314T133330Z
UID:ATEvent-1266e226fe324d248d87fb0a0ec2c469
SEQUENCE:0
LAST-MODIFIED:20210322T083323Z
SUMMARY:Confessions individuelles et ostension de la Vierge du choléra
LOCATION:Basilique de Gray
PRIORITY:3
TRANSP:0
END:VEVENT
END:VCALENDAR
