BEGIN:VCALENDAR
PRODID:-//AT Content Types//AT Event//EN
VERSION:1.0
BEGIN:VEVENT
DTSTART:20210424T080000Z
DTEND:20210424T093000Z
DCREATED:20210415T145354Z
UID:ATEvent-0330dc36710d4346a6a11c2f0c6107ce
SEQUENCE:0
LAST-MODIFIED:20210415T150043Z
SUMMARY:Célébration du Pardon pour les CM qui se préparent à communier pour la première fois
LOCATION:Basilique de Gray
PRIORITY:3
TRANSP:0
END:VEVENT
END:VCALENDAR
