BEGIN:VCALENDAR
PRODID:-//AT Content Types//AT Event//EN
VERSION:2.0
METHOD:PUBLISH
BEGIN:VEVENT
DTSTAMP:20260419T150305Z
CREATED:20200907T090622Z
UID:ATEvent-c06985b615e24fd5be540389e8cb1e83
LAST-MODIFIED:20200907T090648Z
SUMMARY:Visite d'église
DTSTART:20200912T220000Z
DTEND:20200912T220000Z
DESCRIPTION:Dans le cadre du 179 ème congrès archéologique de Franc
 e\, visite de l'église de Confracourt et Jussey
LOCATION:Confracourt et Jussey
CLASS:PUBLIC
END:VEVENT
END:VCALENDAR
