BEGIN:VCALENDAR
PRODID:-//AT Content Types//AT Event//EN
VERSION:1.0
BEGIN:VEVENT
DTSTART:20201017T120000Z
DTEND:20201017T160000Z
DCREATED:20200907T092712Z
UID:ATEvent-4e6561e74ff1414898d6b84dd47bd44d
SEQUENCE:0
LAST-MODIFIED:20200907T092722Z
SUMMARY:Temps fort pour la Catéchèse paroisse de Jussey et Faverney-Amance
PRIORITY:3
TRANSP:0
END:VEVENT
END:VCALENDAR
