BEGIN:VCALENDAR
PRODID:-//AT Content Types//AT Event//EN
VERSION:1.0
BEGIN:VEVENT
DTSTART:20200915T121500Z
DTEND:20200915T140000Z
DCREATED:20200907T091333Z
UID:ATEvent-a05a7780bf8c472da84b182250787751
SEQUENCE:0
LAST-MODIFIED:20200907T091345Z
SUMMARY:Rentrée du SEM
LOCATION:à Jussey
PRIORITY:3
TRANSP:0
END:VEVENT
END:VCALENDAR
