BEGIN:VCALENDAR
PRODID:-//AT Content Types//AT Event//EN
VERSION:2.0
METHOD:PUBLISH
BEGIN:VEVENT
DTSTAMP:20260423T123146Z
CREATED:20200907T091115Z
UID:ATEvent-da151d044b234457b4ea34b98f36a405
LAST-MODIFIED:20200907T091129Z
SUMMARY:RentrÃ©e de la catÃ©chÃ¨se
DTSTART:20200913T074500Z
DTEND:20200913T100000Z
DESCRIPTION:RentrÃ©e de la catÃ©chÃ¨se Ã  9h45 avec une rencontre catÃ
 ©chistes/parents suivie de la messe avec la communautÃ© Ã  10h30. Pour
  les enfants et les jeunes des paroisses du Pays de Vauvillers et Pass
 avant-Corre-Jonvelle
LOCATION:Eglise de Demangevelle
CLASS:PUBLIC
END:VEVENT
END:VCALENDAR
