BEGIN:VCALENDAR
PRODID:-//AT Content Types//AT Event//EN
VERSION:2.0
METHOD:PUBLISH
BEGIN:VEVENT
DTSTAMP:20260422T003538Z
CREATED:20200907T091641Z
UID:ATEvent-4488bff96d314fdc9508c18362c96819
LAST-MODIFIED:20200907T091657Z
SUMMARY:Rentrée de la catéchèse de la paroisse de Faverney
DTSTART:20200919T154500Z
DTEND:20200919T173000Z
DESCRIPTION:Rencontre catéchistes/parents à 17h45 suivie de la messe
  de rentrée avec la communauté à 18h30
LOCATION:Eglise de Faverney
CLASS:PUBLIC
END:VEVENT
END:VCALENDAR
