BEGIN:VCALENDAR
PRODID:-//AT Content Types//AT Event//EN
VERSION:1.0
BEGIN:VEVENT
DTSTART:20200912T073000Z
DTEND:20200912T160000Z
DCREATED:20200217T160244Z
UID:ATEvent-ddf2fb303f834c09a2c3e9e3cd46efe4
SEQUENCE:0
LAST-MODIFIED:20200907T085548Z
SUMMARY:Rencontre des confirmands
LOCATION:à Jussey
PRIORITY:3
TRANSP:0
END:VEVENT
END:VCALENDAR
