BEGIN:VCALENDAR
PRODID:-//AT Content Types//AT Event//EN
VERSION:2.0
METHOD:PUBLISH
BEGIN:VEVENT
DTSTAMP:20260420T220240Z
CREATED:20200907T093109Z
UID:ATEvent-b272d22187bc4196999d48cde8466163
LAST-MODIFIED:20200907T093144Z
SUMMARY:Préparation aux baptêmes
DTSTART:20201023T180000Z
DTEND:20201023T200000Z
DESCRIPTION:Afin d’accueillir les familles dans de bonnes conditions
 \, il est demandé de s'inscrire à l'avance auprès du secrétariat a
 u 03.84.68.11.71 ou par email doyennefaverneyjussey@gmail.com ou via l
 e document dans l'onglet "Vie pratique" de ce site
LOCATION:Presbytère Faverney
CLASS:PUBLIC
END:VEVENT
END:VCALENDAR
