BEGIN:VCALENDAR
PRODID:-//AT Content Types//AT Event//EN
VERSION:1.0
BEGIN:VEVENT
DTSTART:20201205T080000Z
DTEND:20201205T110000Z
DCREATED:20201109T155331Z
UID:ATEvent-5741cd0d335a4c93930f08fe1bb9f06d
SEQUENCE:0
LAST-MODIFIED:20201130T154251Z
SUMMARY:Formation des Equipes de Coordination Pastorale
LOCATION:en Visio conférence
PRIORITY:3
TRANSP:0
END:VEVENT
END:VCALENDAR
