BEGIN:VCALENDAR
PRODID:-//AT Content Types//AT Event//EN
VERSION:2.0
METHOD:PUBLISH
BEGIN:VEVENT
DTSTAMP:20260421T092053Z
CREATED:20200907T100155Z
UID:ATEvent-5575ab46bd4f476b8a6a1426f63abd72
LAST-MODIFIED:20200907T100213Z
SUMMARY:Conférence Débat "A la découverte de l'évangile de Saint Marc"
DTSTART:20201105T190000Z
DTEND:20201105T210000Z
DESCRIPTION:Conférence donnée par le père Jean-François BAUDOZ
LOCATION:Jussey
CLASS:PUBLIC
END:VEVENT
END:VCALENDAR
