BEGIN:VCALENDAR
PRODID:-//AT Content Types//AT Event//EN
VERSION:2.0
METHOD:PUBLISH
BEGIN:VEVENT
DTSTAMP:20260421T230758Z
CREATED:20201218T154708Z
UID:ATEvent-fb5a10edd7af40a7b3e94775321517ae
LAST-MODIFIED:20201218T154732Z
SUMMARY:CÃ©lÃ©bration de NoÃ«l pour les enfants de l'Ã©veil Ã  la Foi et la catÃ©chÃ¨se
DTSTART:20201223T140000Z
DTEND:20201223T160000Z
DESCRIPTION:NoÃ«l quelle joie ! Cette annÃ©e\, la cÃ©lÃ©bration de NoÃ
 «l pour les enfants de la catÃ©chÃ¨se et de l'Ã©veil Ã  la Foi  du doy
 ennÃ© se fera avec le protocole sanitaire (gel\, masque et distance de
  sÃ©curitÃ©)
LOCATION:Eglise de Jussey
CLASS:PUBLIC
END:VEVENT
END:VCALENDAR
