BEGIN:VCALENDAR
PRODID:-//AT Content Types//AT Event//EN
VERSION:2.0
METHOD:PUBLISH
BEGIN:VEVENT
DTSTAMP:20260421T170524Z
CREATED:20190625T121052Z
UID:ATEvent-981b2e0158c44f39b3584a5c5a648929
LAST-MODIFIED:20200907T090042Z
SUMMARY:Confirmation
DTSTART:20200927T080000Z
DTEND:20200927T100000Z
LOCATION:Basilique de Faverney
CATEGORIES:test
CLASS:PUBLIC
END:VEVENT
END:VCALENDAR
