BEGIN:VCALENDAR
PRODID:-//AT Content Types//AT Event//EN
VERSION:1.0
BEGIN:VEVENT
DTSTART:20260305T190000Z
DTEND:20260305T210000Z
DCREATED:20260226T194326Z
UID:ATEvent-f62fb7750ddb4c518dea88bebb6aef0e
SEQUENCE:0
LAST-MODIFIED:20260226T194354Z
SUMMARY:Rencontre\, en visio\, pour les accompagnateurs de servants d'autel
DESCRIPTION:À la suite du rassemblement diocésain de novembre\, \npo
 ur parler des spécificités de la liturgie de la Semaine sainte conce
 rnant le service de l'autel\, deux dates sont proposées (5 et 26 mars
  en soirée).\nMessage à relayer aux servants plus âgés qui encadre
 nt les plus jeunes\, aux catéchistes\, aux sacristains...\nVous trouv
 erez ci-après les liens de connexions
LOCATION:Visioconférence
PRIORITY:3
TRANSP:0
END:VEVENT
END:VCALENDAR
