BEGIN:VCALENDAR
PRODID:-//AT Content Types//AT Event//EN
VERSION:2.0
METHOD:PUBLISH
BEGIN:VEVENT
DTSTAMP:20260424T024433Z
CREATED:20260423T194249Z
UID:ATEvent-6779497580f44fbaa692939bbb6b913d
LAST-MODIFIED:20260423T194309Z
SUMMARY:Rassemblement des Équipes du Rosaire
DTSTART:20260505T073000Z
DTEND:20260505T140000Z
DESCRIPTION:L’autre nom des Équipes du Rosaire est « l’Évangile
  avec Marie »\, c’est dire si Marie est à chaque instant avec nous
 \, soit dans et avec notre mouvement\, soit dans chacune de nos vies p
 ersonnelles.
LOCATION:Salle des fêtes - Noidans-lès-Vesoul
CONTACT:Marie-Claude BLANCHE\, 03 84 92 50 16
CLASS:PUBLIC
END:VEVENT
END:VCALENDAR
