BEGIN:VCALENDAR
PRODID:-//AT Content Types//AT Event//EN
VERSION:1.0
BEGIN:VEVENT
DTSTART:20260325T160000Z
DTEND:20260325T160000Z
DCREATED:20260227T181441Z
UID:ATEvent-c308d27642544e7e86fc84e888b4b77f
SEQUENCE:0
LAST-MODIFIED:20260320T195450Z
SUMMARY:Prière de Carême à Vesoul
DESCRIPTION:Les mercredis 25 mars et 1er avril
LOCATION:Église du Sacré-Coeur - Vesoul
PRIORITY:3
TRANSP:0
END:VEVENT
END:VCALENDAR
