BEGIN:VCALENDAR
PRODID:-//AT Content Types//AT Event//EN
VERSION:2.0
METHOD:PUBLISH
BEGIN:VEVENT
DTSTAMP:20260422T102336Z
CREATED:20260227T182115Z
UID:ATEvent-89378c59ae574712bfeec583f0962646
LAST-MODIFIED:20260320T195559Z
SUMMARY:Prière de Carême à Vaivre
DTSTART:20260323T163000Z
DTEND:20260323T163000Z
DESCRIPTION:Chez Mme Carteron\, les lundis 23 et 30 mars à 17h30
LOCATION:Vaivre : chez Mme Carteron
URL:https://www.diocese-besancon.fr/diocese/doyennes-et-paroisses/d09-les-plateaux-de-vesoul/actualites/2666-quelques-propositions-pour-vivre-le-careme-dans-notre-paroisse
CLASS:PUBLIC
END:VEVENT
END:VCALENDAR
