BEGIN:VCALENDAR
PRODID:-//AT Content Types//AT Event//EN
VERSION:1.0
BEGIN:VEVENT
DTSTART:20260326T131500Z
DTEND:20260326T131500Z
DCREATED:20260227T183036Z
UID:ATEvent-5048db8557c24565ae1e5d26b2e821f1
SEQUENCE:0
LAST-MODIFIED:20260320T200003Z
SUMMARY:Prière de Carême à Pusey
DESCRIPTION:Dernier jeudi : 26 mars à 14h15 en l'église Saint-Mauric
 e de Pusey
LOCATION:Église Saint-Maurice - Pusey
PRIORITY:3
TRANSP:0
END:VEVENT
END:VCALENDAR
