BEGIN:VCALENDAR
PRODID:-//AT Content Types//AT Event//EN
VERSION:1.0
BEGIN:VEVENT
DTSTART:20260324T173000Z
DTEND:20260324T173000Z
DCREATED:20260227T182753Z
UID:ATEvent-f6051af507d24485a517e3df8577d250
SEQUENCE:0
LAST-MODIFIED:20260320T210700Z
SUMMARY:Prière de Carême à Andelarre
DESCRIPTION:En l'église d'Andelarre le mardi 24 mars.
LOCATION:Église de l'Assomption de Marie - Andelarre
PRIORITY:3
TRANSP:0
END:VEVENT
END:VCALENDAR
