BEGIN:VCALENDAR
PRODID:-//AT Content Types//AT Event//EN
VERSION:2.0
METHOD:PUBLISH
BEGIN:VEVENT
DTSTAMP:20260422T055640Z
CREATED:20260226T193047Z
UID:ATEvent-95c7f744f8e74c19b52b29a99543d287
LAST-MODIFIED:20260226T193100Z
SUMMARY:♦ Scey-sur-Saône : soirée "bol de soupe"
DTSTART:20260314T173000Z
DTEND:20260314T173000Z
DESCRIPTION:À l'initiative des catéchistes et des parents des enfant
 s catéchisés du secteur missionnaire de Scey-Val de Saône\, l'actio
 n de Carême permettra de soutenir la construction d'une classe pour l
 'école Saint-Antoine de Padoue à Madagascar.\nAprès la séance de c
 até\, les enfants et leurs parents se rendront\, à 18h30\,  en l'ég
 lise de Scey-sur-Saône pour la célébration de la messe \; celle-ci 
 sera suivie du partage d'un bol de soupe.
LOCATION:Salles et église de Scey-sur-Saône
CLASS:PUBLIC
END:VEVENT
END:VCALENDAR
