BEGIN:VCALENDAR
PRODID:-//AT Content Types//AT Event//EN
VERSION:2.0
METHOD:PUBLISH
BEGIN:VEVENT
DTSTAMP:20260420T225213Z
CREATED:20260302T195041Z
UID:ATEvent-38f5595a1b8c4fcfbfed799be7709cda
LAST-MODIFIED:20260302T195107Z
SUMMARY:♦ Mailley : vente de gâteaux
DTSTART:20260308T093000Z
DTEND:20260308T093000Z
DESCRIPTION:Chers paroissiens : les enfants qui préparent leur profes
 sion de foi partiront du 17 au 19 avril prochain en retraite spirituel
 le aux Fontenelles. Afin de financer le bus pour se rendre sur les lie
 ux\, ils vous proposeront d'acheter quelques gâteaux confectionnés p
 ar leurs soins à la sortie de la messe ce dimanche 8 mars à 10h30 à
  Mailley. Nous vous remercions par avance de leur réserver un bel acc
 ueil !
LOCATION:Église St-Nicet - Mailley-et-Chazelot
CLASS:PUBLIC
END:VEVENT
END:VCALENDAR
