BEGIN:VCALENDAR
PRODID:-//AT Content Types//AT Event//EN
VERSION:2.0
METHOD:PUBLISH
BEGIN:VEVENT
DTSTAMP:20260420T134426Z
CREATED:20260301T204526Z
UID:ATEvent-2b5fa97e002e46fd8ecf2e887f349a8a
LAST-MODIFIED:20260401T191302Z
SUMMARY:♦ Accompagnement des familles en deuil - formation
DTSTART:20260429T120000Z
DTEND:20260429T120000Z
DESCRIPTION:Rencontrer et soutenir les familles\, prier pour les défu
 nts et conduire leurs funérailles est une véritable source d’espé
 rance pour celui qui s’y investit. Cette mission fait grandir la foi
 . Bien sûr\, cela demande de l’énergie et de la force… mais c’
 est d’abord le Seigneur qui les donne ! \nDernière demi-journée de
  formation : mercredi 29 avril.
LOCATION:Presbytère du Sacré-Coeur Vesoul
CONTACT:Abbé Franck Ruffiot\, abbe.ruffiot@diocese-besancon.fr
URL:https://www.diocese-besancon.fr/diocese/doyennes-et-paroisses/d09-les-plateaux-de-vesoul/actualites/2666-au-service-de-la-paroisse-notre-dame-de-la-motte-vesoul
CLASS:PUBLIC
END:VEVENT
END:VCALENDAR
