BEGIN:VCALENDAR
PRODID:-//AT Content Types//AT Event//EN
VERSION:1.0
BEGIN:VEVENT
DTSTART:20260308T163000Z
DTEND:20260308T163000Z
DCREATED:20260226T192239Z
UID:ATEvent-01a3adc109b64d7480b98799c30676b0
SEQUENCE:0
LAST-MODIFIED:20260320T194514Z
SUMMARY:♦ 5ème conférence de Carême "L'expression libre dans l'art"
DESCRIPTION:Conférence animée par l'abbé Franck Ruffiot \; elle ser
 a suivie des Vêpres à 18h30.
LOCATION:Église Saint-Léger - Vellefaux
PRIORITY:3
TRANSP:0
END:VEVENT
END:VCALENDAR
