BEGIN:VCALENDAR
PRODID:-//AT Content Types//AT Event//EN
VERSION:1.0
BEGIN:VEVENT
DTSTART:20231130T230000Z
DTEND:20231202T230000Z
DCREATED:20231201T084317Z
UID:ATEvent-618afac2afc049698420d2800ce48cf6
SEQUENCE:0
LAST-MODIFIED:20240325T074507Z
SUMMARY:Rassemblement des sÃ©minaristes de France Ã  Paris
DESCRIPTION:Du 1er au 3 dÃ©cembre 2023\, tous les sÃ©minaristes de Fra
 nce se rassemblent Ã  Paris pour partager la joie de leur appel Ã  dev
 enir prÃªtre au service de lâ€™Ã‰glise. Un programme riche leur sera p
 roposÃ© : pÃ¨lerinage dans Paris\, enseignements autour des figures de
  saint Charles de Foucauld et de saint FranÃ§ois-Xavier\, temps de mis
 sion et de priÃ¨re\, notamment Ã  la Basilique du SacrÃ©-CÅ“ur de Mont
 martre et sur le parvis de Notre-Dame. La rencontre aura pour thÃ¨me Â
 « Dieu est fidÃ¨le\, Lui qui vous a appelÃ©s Â» (1Co 1\, 9). (DiocÃ¨se
  BesanÃ§on)
LOCATION:PARIS
PRIORITY:3
TRANSP:0
END:VEVENT
END:VCALENDAR
