BEGIN:VCALENDAR
PRODID:-//AT Content Types//AT Event//EN
VERSION:1.0
BEGIN:VEVENT
DTSTART:20200526T085000Z
DTEND:20200526T085000Z
DCREATED:20190917T090738Z
UID:ATEvent-0fb605c3fba94c4b92d64bb11605514a
SEQUENCE:0
LAST-MODIFIED:20191014T120642Z
SUMMARY:Test affichage agenda
DESCRIPTION:test
PRIORITY:3
TRANSP:0
END:VEVENT
END:VCALENDAR
