BEGIN:VCALENDAR
PRODID:-//AT Content Types//AT Event//EN
VERSION:1.0
BEGIN:VEVENT
DTSTART:20191221T194500Z
DTEND:20191221T194500Z
DCREATED:20190917T090738Z
UID:ATEvent-49ee4eec5a3044ea93c77e5c8f950bd8
SEQUENCE:0
LAST-MODIFIED:20191014T120631Z
SUMMARY:Baptême des catéchumènes
LOCATION:Eglise d'Arc
PRIORITY:3
TRANSP:0
END:VEVENT
END:VCALENDAR
