BEGIN:VCALENDAR
PRODID:-//AT Content Types//AT Event//EN
VERSION:1.0
BEGIN:VEVENT
DTSTART:20210123T080000Z
DTEND:20210123T110000Z
DCREATED:20200917T162725Z
UID:ATEvent-4278c71f71bc487d8862cdf28b9e010d
SEQUENCE:0
LAST-MODIFIED:20201215T100009Z
SUMMARY:Formation des ECP
LOCATION:Pontarlier
PRIORITY:3
TRANSP:0
END:VEVENT
END:VCALENDAR
