BEGIN:VCALENDAR
PRODID:-//AT Content Types//AT Event//EN
VERSION:1.0
BEGIN:VEVENT
DTSTART:20240202T083000Z
DTEND:20240202T150000Z
DCREATED:20240127T111735Z
UID:ATEvent-7326d0690c4943fdb6f8bf4dd6aabb75
SEQUENCE:0
LAST-MODIFIED:20240127T120208Z
SUMMARY:Formation initiale de la pastorale de la santé
LOCATION:aux Chaprais à Besançon
PRIORITY:3
TRANSP:0
END:VEVENT
END:VCALENDAR
