BEGIN:VCALENDAR
PRODID:-//AT Content Types//AT Event//EN
VERSION:2.0
METHOD:PUBLISH
BEGIN:VEVENT
DTSTAMP:20260421T160815Z
CREATED:20200828T115830Z
UID:ATEvent-3e19c9ce7d124772abefda93f68b9f4e
LAST-MODIFIED:20200828T115837Z
SUMMARY:Rentrée du service de formation
DTSTART:20200904T163000Z
DTEND:20200904T203000Z
DESCRIPTION:Rentrée du service de formation à la Marne. Soirée ouve
 rte à tous.
LOCATION:la Marne
CLASS:PUBLIC
END:VEVENT
END:VCALENDAR
