BEGIN:VCALENDAR
PRODID:-//AT Content Types//AT Event//EN
VERSION:1.0
BEGIN:VEVENT
DTSTART:20210614T130000Z
DTEND:20210619T160000Z
DCREATED:20210611T200049Z
UID:ATEvent-1fe5fcb9aa0742f7bce9a31399ea8325
SEQUENCE:0
LAST-MODIFIED:20220325T174114Z
SUMMARY:Expo-photos "Les hommes et la forêt dans la paysannerie européenne"
DESCRIPTION:Le massif des Carpates est un conservatoire de la civilisa
 tion rurale de toute l’Europe : une civilisation de l’arbre et du 
 bois\, avec son culte et ses rites étroitement liés au culte des anc
 êtres et à celui de la terre. Les images\, prises entre 1976 et 2010
 \, ouvrent à la dimension spirituelle de l’arbre et du bois et à l
 eur place symbolique dans les cérémonies du village : fêtes au cour
 s de la vie\, fêtes au cours des saisons…
LOCATION:Centre Diocésain\, 20 rue Mégevand à Besançon
PRIORITY:3
TRANSP:0
END:VEVENT
END:VCALENDAR
