BEGIN:VCALENDAR
PRODID:-//AT Content Types//AT Event//EN
VERSION:1.0
BEGIN:VEVENT
DTSTART:20210618T170000Z
DTEND:20210618T170000Z
DCREATED:20210611T195822Z
UID:ATEvent-c12295921f0e47b9abc6b5331c6d70d9
SEQUENCE:0
LAST-MODIFIED:20220325T174107Z
SUMMARY:Diner-spectacle "La boÃ®te Ã  musique (en)chantÃ©e"
DESCRIPTION:Ã€ la suite dâ€™un dÃ®ner sous les Ã©toiles\, entrez dans 
 la boÃ®te Ã  musique. Un maÃ®tre de cÃ©rÃ©monie Ã  lâ€™enthousiasme dÃ
 ©bordant vous y accueillera\, et vous fera choisir\, parmi les grands 
 classiques du rÃ©pertoire franÃ§ais\, le programme de la soirÃ©e. Ã€ m
 i-chemin entre le thÃ©Ã¢tre et la chanson\, le divertissement et lâ€™Ã
 ©motion\, un spectacle Ã  la fois drÃ´le et magique.
LOCATION:Centre DiocÃ©sain\, 20 rue MÃ©gevand Ã  BesanÃ§on
PRIORITY:3
TRANSP:0
END:VEVENT
END:VCALENDAR
