BEGIN:VCALENDAR
PRODID:-//AT Content Types//AT Event//EN
VERSION:1.0
BEGIN:VEVENT
DTSTART:20231022T150000Z
DTEND:20231022T150000Z
DCREATED:20230929T120217Z
UID:ATEvent-e252ba5ddefa4dceaec38f088f9b27b9
SEQUENCE:0
LAST-MODIFIED:20231006T111101Z
SUMMARY:♦ Concert du Chœur YAROSLAVL'
LOCATION:Église St Pierre de Pontarlier
PRIORITY:3
TRANSP:0
END:VEVENT
END:VCALENDAR
