BEGIN:VCALENDAR
PRODID:-//AT Content Types//AT Event//EN
VERSION:2.0
METHOD:PUBLISH
BEGIN:VEVENT
DTSTAMP:20260421T110103Z
CREATED:20230414T152717Z
UID:ATEvent-3e951e23aa4f487da603c0e41582e5f1
LAST-MODIFIED:20230414T153416Z
SUMMARY:Le Tour du Patro à Besançon
DTSTART:20230425T180000Z
DTEND:20230426T150000Z
LOCATION:Escale Jeunes - 9 rue de la Convention - Besançon
CONTACT:patrostcalixte@gmail.com
URL:https://www.le-patronage.fr/
CLASS:PUBLIC
END:VEVENT
END:VCALENDAR
