BEGIN:VCALENDAR
PRODID:-//AT Content Types//AT Event//EN
VERSION:2.0
METHOD:PUBLISH
BEGIN:VEVENT
DTSTAMP:20260421T130523Z
CREATED:20230408T154741Z
UID:ATEvent-bec5a183f6aa47d680e06b86844bbd20
LAST-MODIFIED:20230408T155834Z
SUMMARY:♦ Réunion du groupe Église Verte
DTSTART:20230415T070000Z
DTEND:20230415T070000Z
LOCATION:Frasne
CLASS:PUBLIC
END:VEVENT
END:VCALENDAR
