BEGIN:VCALENDAR
PRODID:-//AT Content Types//AT Event//EN
VERSION:2.0
METHOD:PUBLISH
BEGIN:VEVENT
DTSTAMP:20260421T121529Z
CREATED:20230310T213146Z
UID:ATEvent-310aa048ec4e4ccbb7cae521b5ab48e5
LAST-MODIFIED:20230310T220100Z
SUMMARY:Forum régional du CCFD-Terre Solidaire et conférence partenaire
DTSTART:20230317T190000Z
DTEND:20230318T153000Z
DESCRIPTION:Organisé par le CCFD-Terre Solidaire de Bourgogne – Fra
 nche-Comté.
LOCATION:Centre diocésain - 20 rue Mégevand - Besançon
CONTACT:CCFD Terre Solidaire 25\, ccfd25@ccfd-terresolidaire.org
CLASS:PUBLIC
END:VEVENT
END:VCALENDAR
