BEGIN:VCALENDAR
PRODID:-//AT Content Types//AT Event//EN
VERSION:1.0
BEGIN:VEVENT
DTSTART:20230301T190000Z
DTEND:20230301T210000Z
DCREATED:20230222T182112Z
UID:ATEvent-9d5a6c2b48db4911b862989e3726040c
SEQUENCE:0
LAST-MODIFIED:20230222T183514Z
SUMMARY:♦ Rencontre des resp. de catéchèse des paroisses du doyenné
LOCATION:Salle de l'église St Pierre\, Pontarlier
PRIORITY:3
TRANSP:0
END:VEVENT
END:VCALENDAR
