BEGIN:VCALENDAR
PRODID:-//AT Content Types//AT Event//EN
VERSION:2.0
METHOD:PUBLISH
BEGIN:VEVENT
DTSTAMP:20260421T190959Z
CREATED:20230201T091949Z
UID:ATEvent-932a9d38a4f44d13b49cffc2ff28d2d8
LAST-MODIFIED:20230303T103158Z
SUMMARY:♦ Exposition Art & Foi : Marie-Madeleine d'hier et d'aujourd'hui
DTSTART:20230217T230000Z
DTEND:20230217T230000Z
DESCRIPTION:Du samedi 18 au samedi 26 février\, de 14h à 18h
LOCATION:Chapelle des Annonciades\, Pontarlier
CONTACT:Association Art et Foi Haut-Doubs\, guiraudjoe25@gmail.com
CLASS:PUBLIC
END:VEVENT
END:VCALENDAR
