BEGIN:VCALENDAR
PRODID:-//AT Content Types//AT Event//EN
VERSION:1.0
BEGIN:VEVENT
DTSTART:20221207T173000Z
DTEND:20221207T173000Z
DCREATED:20230328T195543Z
UID:ATEvent-88ec5b2d540b446e88db09a8ee3e4ee7
SEQUENCE:0
LAST-MODIFIED:20230328T203141Z
SUMMARY:# Conférence "Les récits de la Nativité dans les évangiles apocryphes"
DESCRIPTION:Une conférence donnée par Régis Burnet et animée par B
 enoît de Sagazan\, rédacteur en chef du Monde de la Bible.
LOCATION:En visioconférence
PRIORITY:3
TRANSP:0
END:VEVENT
END:VCALENDAR
