BEGIN:VCALENDAR
PRODID:-//AT Content Types//AT Event//EN
VERSION:2.0
METHOD:PUBLISH
BEGIN:VEVENT
DTSTAMP:20260422T040343Z
CREATED:20221120T075747Z
UID:ATEvent-de344ef096c349748f627ffeda6eede4
LAST-MODIFIED:20221120T081836Z
SUMMARY:♦ Le Festi'Diff à Labergement-Sainte-Marie
DTSTART:20221125T230000Z
DTEND:20221126T230000Z
LOCATION:Salle des Vallières\, LABERGEMENT-SAINTE-MARIE (25)
CONTACT:Fest'Diff\, 03 39 33 00 60\, contact@festi-diff.fr
URL:https://www.festi-diff.fr/
CLASS:PUBLIC
END:VEVENT
END:VCALENDAR
