BEGIN:VCALENDAR
PRODID:-//AT Content Types//AT Event//EN
VERSION:1.0
BEGIN:VEVENT
DTSTART:20220924T220000Z
DTEND:20220924T220000Z
DCREATED:20220917T132155Z
UID:ATEvent-7da735496d874908bf3c26cfc362436c
SEQUENCE:0
LAST-MODIFIED:20220921T071231Z
SUMMARY:Journée Mondiale du Migrant et du Réfugié
PRIORITY:3
TRANSP:0
END:VEVENT
END:VCALENDAR
